BEGIN:VCALENDAR
VERSION:2.0
PRODID:-//South Jersey Chapter of the National Black Nurses Association - ECPv6.15.20//NONSGML v1.0//EN
CALSCALE:GREGORIAN
METHOD:PUBLISH
X-ORIGINAL-URL:https://sjcnbna.org
X-WR-CALDESC:Events for South Jersey Chapter of the National Black Nurses Association
REFRESH-INTERVAL;VALUE=DURATION:PT1H
X-Robots-Tag:noindex
X-PUBLISHED-TTL:PT1H
BEGIN:VTIMEZONE
TZID:America/New_York
BEGIN:DAYLIGHT
TZOFFSETFROM:-0500
TZOFFSETTO:-0400
TZNAME:EDT
DTSTART:20240310T070000
END:DAYLIGHT
BEGIN:STANDARD
TZOFFSETFROM:-0400
TZOFFSETTO:-0500
TZNAME:EST
DTSTART:20241103T060000
END:STANDARD
BEGIN:DAYLIGHT
TZOFFSETFROM:-0500
TZOFFSETTO:-0400
TZNAME:EDT
DTSTART:20250309T070000
END:DAYLIGHT
BEGIN:STANDARD
TZOFFSETFROM:-0400
TZOFFSETTO:-0500
TZNAME:EST
DTSTART:20251102T060000
END:STANDARD
BEGIN:DAYLIGHT
TZOFFSETFROM:-0500
TZOFFSETTO:-0400
TZNAME:EDT
DTSTART:20260308T070000
END:DAYLIGHT
BEGIN:STANDARD
TZOFFSETFROM:-0400
TZOFFSETTO:-0500
TZNAME:EST
DTSTART:20261101T060000
END:STANDARD
BEGIN:DAYLIGHT
TZOFFSETFROM:-0500
TZOFFSETTO:-0400
TZNAME:EDT
DTSTART:20270314T070000
END:DAYLIGHT
BEGIN:STANDARD
TZOFFSETFROM:-0400
TZOFFSETTO:-0500
TZNAME:EST
DTSTART:20271107T060000
END:STANDARD
END:VTIMEZONE
BEGIN:VEVENT
DTSTART;TZID=America/New_York:20260404T113000
DTEND;TZID=America/New_York:20260404T130000
DTSTAMP:20260419T081315
CREATED:20260222T215201Z
LAST-MODIFIED:20260222T215234Z
UID:10000020-1775302200-1775307600@sjcnbna.org
SUMMARY:SJCNBNA General Member Meeting
DESCRIPTION:👥 Members General Monthly Meeting\nThe Members General Monthly Meeting is where ideas come to life and connections grow stronger. This interactive gathering keeps members informed\, engaged\, and empowered through organizational updates\, committee reports\, upcoming initiatives\, and open discussions. \nIt’s an opportunity to share insights\, collaborate on goals\, and help shape the direction of our community. Whether you’re a long-time member or a newly joined member\, your voice and participation matter. \nLocation: 900 Centennial Blvd\, Suite 202\, Voorhees Township\, NJ 08043\n\n📅 Get Involved\n\nAttend the Next Meeting – Stay informed and connected. Held on the first Saturday of each month\nShare Your Ideas – Contribute to meaningful discussions and initiatives.\nBring a Fellow Member – Strengthen our network and impact.\n\n👉 Mark your calendar and join us at the next Members General Monthly Meeting at 11:30 AM!
URL:https://sjcnbna.org/event/sjcnbna-general-member-meeting/2026-04-04/
LOCATION:Cooper Building\, 900 Centennial Boulevard\, 2nd floor\, Voorhees\, NJ\, United States
ORGANIZER;CN="South Jersey Chapter of the NBNA":MAILTO:info@sjcnbna.org
END:VEVENT
BEGIN:VEVENT
DTSTART;TZID=America/New_York:20260307T113000
DTEND;TZID=America/New_York:20260307T130000
DTSTAMP:20260419T081315
CREATED:20260222T215201Z
LAST-MODIFIED:20260222T215234Z
UID:10000019-1772883000-1772888400@sjcnbna.org
SUMMARY:SJCNBNA General Member Meeting
DESCRIPTION:👥 Members General Monthly Meeting\nThe Members General Monthly Meeting is where ideas come to life and connections grow stronger. This interactive gathering keeps members informed\, engaged\, and empowered through organizational updates\, committee reports\, upcoming initiatives\, and open discussions. \nIt’s an opportunity to share insights\, collaborate on goals\, and help shape the direction of our community. Whether you’re a long-time member or a newly joined member\, your voice and participation matter. \nLocation: 900 Centennial Blvd\, Suite 202\, Voorhees Township\, NJ 08043\n\n📅 Get Involved\n\nAttend the Next Meeting – Stay informed and connected. Held on the first Saturday of each month\nShare Your Ideas – Contribute to meaningful discussions and initiatives.\nBring a Fellow Member – Strengthen our network and impact.\n\n👉 Mark your calendar and join us at the next Members General Monthly Meeting at 11:30 AM!
URL:https://sjcnbna.org/event/sjcnbna-general-member-meeting/2026-03-07/
LOCATION:Cooper Building\, 900 Centennial Boulevard\, 2nd floor\, Voorhees\, NJ\, United States
ORGANIZER;CN="South Jersey Chapter of the NBNA":MAILTO:info@sjcnbna.org
END:VEVENT
BEGIN:VEVENT
DTSTART;TZID=America/New_York:20251115T140000
DTEND;TZID=America/New_York:20251115T160000
DTSTAMP:20260419T081315
CREATED:20250813T221426Z
LAST-MODIFIED:20250906T161318Z
UID:10000003-1763215200-1763222400@sjcnbna.org
SUMMARY:🎳 Strike Up Some Fun at Our 2025 Annual Friends & Family Bowling Event! 🎳
DESCRIPTION:Get ready for a night of laughter\, friendly competition\, and community connection! Bring your best moves—and your best people—for an evening of bowling\, bonding\, and giving back. \n🗓️ November 15\, 2025 | 🕒 2PM- 4PM📍30 Strikes at 501 S White Horse Pike\,  Stratford\, NJ 08084 \n💖 Let’s Bowl with Purpose!We’re collecting non-perishable canned goods to support the Voice of Deliverance New Covenant Church Food Pantry in Vineland\, NJ.Please bring a few cans and help us strike out hunger in our community! \n👉 RSVP now\, spread the word\, and don’t forget your canned goods!Let’s roll together—for fun\, for family\, and for a good cause! \n 
URL:https://sjcnbna.org/event/2025-annual-family-friends-bowling-day/
LOCATION:30 Strikes\, 501 S White Horse Pike\, Stratford\, New Jersey\, 08084
ATTACH;FMTTYPE=image/png:https://sjcnbna.org/wp-content/uploads/sites/17/2025/08/2025-Bowling-Night-Flyer-1.png
ORGANIZER;CN="South Jersey Chapter of the NBNA":MAILTO:info@sjcnbna.org
END:VEVENT
BEGIN:VEVENT
DTSTART;TZID=America/New_York:20250906T110000
DTEND;TZID=America/New_York:20250906T123000
DTSTAMP:20260419T081315
CREATED:20250813T222827Z
LAST-MODIFIED:20250906T160602Z
UID:10000004-1757156400-1757161800@sjcnbna.org
SUMMARY:SJCNBNA General Meeting
DESCRIPTION:This meeting will be held virtually only due to the blood drive occurring during the same time.
URL:https://sjcnbna.org/event/sjcnbna-general-meeting/
LOCATION:Cooper Building\, 900 Centennial Boulevard\, 2nd floor\, Voorhees\, NJ\, United States
ORGANIZER;CN="South Jersey Chapter of the NBNA":MAILTO:info@sjcnbna.org
END:VEVENT
BEGIN:VEVENT
DTSTART;TZID=America/New_York:20250905T190000
DTEND;TZID=America/New_York:20250905T203000
DTSTAMP:20260419T081315
CREATED:20250813T223526Z
LAST-MODIFIED:20250813T224251Z
UID:10000005-1757098800-1757104200@sjcnbna.org
SUMMARY:SJCNBNA Board Meeting
DESCRIPTION:
URL:https://sjcnbna.org/event/sjcnbna-board-meeting/
LOCATION:Virtual
ORGANIZER;CN="South Jersey Chapter of the NBNA":MAILTO:info@sjcnbna.org
END:VEVENT
END:VCALENDAR