BEGIN:VCALENDAR
VERSION:2.0
PRODID:-//South Jersey Chapter of the National Black Nurses Association - ECPv6.15.20//NONSGML v1.0//EN
CALSCALE:GREGORIAN
METHOD:PUBLISH
X-ORIGINAL-URL:https://sjcnbna.org
X-WR-CALDESC:Events for South Jersey Chapter of the National Black Nurses Association
REFRESH-INTERVAL;VALUE=DURATION:PT1H
X-Robots-Tag:noindex
X-PUBLISHED-TTL:PT1H
BEGIN:VTIMEZONE
TZID:America/New_York
BEGIN:DAYLIGHT
TZOFFSETFROM:-0500
TZOFFSETTO:-0400
TZNAME:EDT
DTSTART:20240310T070000
END:DAYLIGHT
BEGIN:STANDARD
TZOFFSETFROM:-0400
TZOFFSETTO:-0500
TZNAME:EST
DTSTART:20241103T060000
END:STANDARD
BEGIN:DAYLIGHT
TZOFFSETFROM:-0500
TZOFFSETTO:-0400
TZNAME:EDT
DTSTART:20250309T070000
END:DAYLIGHT
BEGIN:STANDARD
TZOFFSETFROM:-0400
TZOFFSETTO:-0500
TZNAME:EST
DTSTART:20251102T060000
END:STANDARD
BEGIN:DAYLIGHT
TZOFFSETFROM:-0500
TZOFFSETTO:-0400
TZNAME:EDT
DTSTART:20260308T070000
END:DAYLIGHT
BEGIN:STANDARD
TZOFFSETFROM:-0400
TZOFFSETTO:-0500
TZNAME:EST
DTSTART:20261101T060000
END:STANDARD
END:VTIMEZONE
BEGIN:VEVENT
DTSTART;TZID=America/New_York:20250925T080000
DTEND;TZID=America/New_York:20251001T170000
DTSTAMP:20260421T114624
CREATED:20250922T114902Z
LAST-MODIFIED:20250922T114902Z
UID:10000013-1758787200-1759338000@sjcnbna.org
SUMMARY:🥔 Help Us Crunch Towards Our Goal!  Join Our Potato Chip Fundraiser!
DESCRIPTION:We’re raising funds the tastiest way possible — with a Potato Chip Fundraiser! Support our cause by purchasing delicious chips in a variety of mouthwatering flavors. Every bag sold brings us closer to our goal! \n🙋‍♂️🙋‍♀️ Want to Support the Fundraiser?Ask a group member how you can purchase chips and be part of the fun. Every order helps\, and your support means the world to us! \nLet’s make this fundraiser a crunchy success!
URL:https://sjcnbna.org/event/%f0%9f%a5%94-help-us-crunch-towards-our-goal-join-our-potato-chip-fundraiser/
ATTACH;FMTTYPE=image/jpeg:https://sjcnbna.org/wp-content/uploads/sites/17/2025/09/oarq_046q_210601-scaled.jpg
END:VEVENT
BEGIN:VEVENT
DTSTART;TZID=America/New_York:20251004T110000
DTEND;TZID=America/New_York:20251004T150000
DTSTAMP:20260421T114624
CREATED:20250906T162807Z
LAST-MODIFIED:20250906T163622Z
UID:10000010-1759575600-1759590000@sjcnbna.org
SUMMARY:🍂🎉 Join Us for a Day of Fall Fun at the  Winslow Twp Annual Fall Festival! 🎉🍂
DESCRIPTION:🍂🎉 Celebrate the Season at Our Annual Fall Festival – With Fun & Wellness for All! 🎉🍂Join us for a day of family fun\, festive treats\, and free health screenings to help you stay well this fall! \n🎃 Hayrides • 🍎 Apple Cider • 🍁 Crafts • 🎯 Games • 🎶 Live Music🩺 PLUS: Free Health Screenings – Blood pressure\, glucose checks & more! \n🗓️ October 4\, 2025/ Rain Date: 10/11/2025 | 🕒 11 AM- 3PM📍 Miller Farms LLC 134 North Grove Street Berlin\, NJ 08009  \n💛 Bring the whole family for a day of fun\, food\, and fall-themed festivities—while taking care of your health! \n👉 Don’t miss out—mark your calendar and invite your friends!Let’s enjoy the season together and well!
URL:https://sjcnbna.org/event/%f0%9f%8d%82%f0%9f%8e%89-join-us-for-a-day-of-fall-fun-at-the-winslow-twp-annual-fall-festival-%f0%9f%8e%89%f0%9f%8d%82/
LOCATION:Miller’s Farm\, 134 North Grove Street\, Berlin\, New Jersey\, 08009
ATTACH;FMTTYPE=image/png:https://sjcnbna.org/wp-content/uploads/sites/17/2025/09/Cream-Minimalist-Fall-Festival-Flyer.png
END:VEVENT
BEGIN:VEVENT
DTSTART;TZID=America/New_York:20251011T110000
DTEND;TZID=America/New_York:20251011T140000
DTSTAMP:20260421T114624
CREATED:20251008T152526Z
LAST-MODIFIED:20251008T152526Z
UID:10000014-1760180400-1760191200@sjcnbna.org
SUMMARY:You're Invited!  10th Street Baptist Church Women's Ministry Breast Cancer Awareness Luncheon
DESCRIPTION:Join us for an empowering afternoon as we come together to raise awareness\, share stories\, and support one another in the fight against breast cancer. \n📅 Date: October 11\, 2025🕛 Time: 11 AM📍 Location: 1860  S. Tenth St.\, Camden\, NJ 08104 \nThis is more than just a luncheon — it’s a movement. Let’s learn\, uplift\, and educate—because knowledge saves lives. \n✨ Each One Teach One – Bring a friend\, share what you learn\, and help spread awareness in your community.
URL:https://sjcnbna.org/event/youre-invited-10th-street-baptist-church-womens-ministry-breast-cancer-awareness-luncheon/
LOCATION:10th Street Baptist Church\, 1860  S. Tenth St.\, Camden\, New Jersey\, 08104
ATTACH;FMTTYPE=image/jpeg:https://sjcnbna.org/wp-content/uploads/sites/17/2025/10/1000033687.jpg
END:VEVENT
BEGIN:VEVENT
DTSTART;TZID=America/New_York:20251025T110000
DTEND;TZID=America/New_York:20251025T150000
DTSTAMP:20260421T114624
CREATED:20250906T163510Z
LAST-MODIFIED:20250906T163510Z
UID:10000011-1761390000-1761404400@sjcnbna.org
SUMMARY:💪🏽 Get Moving. Feel Strong. Live Well. 🏃‍♀️🏋️‍♂️
DESCRIPTION:CPAC Community Health & Wellness Fair & Physical Fitness Day\, proudly sponsored by The Campbell’s Foundation! \n Date: Saturday\, October 25\, 2025\n Time: 11:00 AM – 3:00 PM (Rain or Shine)\n Location: Farnham Park\, 1648 Baird Blvd\, Camden\, NJ\nThis exciting event will feature:\n Free health & wellness resources\n Healthy cooking demos\n Physical activities for all age groups\n Live DJ & raffles\n Food trucks\n Interactive activities and crafts\n…and so much more for the whole family to enjoy!\n Admission is FREE!\nPlease contact us at events@cpacsj.org
URL:https://sjcnbna.org/event/%f0%9f%92%aa%f0%9f%8f%bd-get-moving-feel-strong-live-well-%f0%9f%8f%83%e2%99%80%ef%b8%8f%f0%9f%8f%8b%ef%b8%8f%e2%99%82%ef%b8%8f/
LOCATION:Farnham Park\, 1648 Baird Blvd\, Camden\, New Jersey
ATTACH;FMTTYPE=application/pdf:https://sjcnbna.org/wp-content/uploads/sites/17/2025/09/CPAC-Community-Health-and-Wellness-Fair-and-Physical-Fitness-Day-Flyer-.pdf
END:VEVENT
END:VCALENDAR